BEGIN:VCALENDAR
VERSION:2.0
PRODID:-//Lake Wynonah Living - ECPv6.15.20//NONSGML v1.0//EN
CALSCALE:GREGORIAN
METHOD:PUBLISH
X-WR-CALNAME:Lake Wynonah Living
X-ORIGINAL-URL:https://lakewynonahliving.com
X-WR-CALDESC:Events for Lake Wynonah Living
REFRESH-INTERVAL;VALUE=DURATION:PT1H
X-Robots-Tag:noindex
X-PUBLISHED-TTL:PT1H
BEGIN:VTIMEZONE
TZID:UTC
BEGIN:STANDARD
TZOFFSETFROM:+0000
TZOFFSETTO:+0000
TZNAME:UTC
DTSTART:20220101T000000
END:STANDARD
END:VTIMEZONE
BEGIN:VEVENT
DTSTART;TZID=UTC:20231007T110000
DTEND;TZID=UTC:20231007T230000
DTSTAMP:20260425T133609
CREATED:20230523T164152Z
LAST-MODIFIED:20230523T164213Z
UID:304-1696676400-1696719600@lakewynonahliving.com
SUMMARY:Fall Fest
DESCRIPTION:Kids Crafts\, Kids Games\, Horseback Riding\, Petting Zoo\, Cornhole Tournament\, Pickle ball\, Food Trucks and Live Music. A good time for all! \nEvent starts at 11 a.m.\nBand/Music::\n                       4-7 PM – The Basement Dwellers\n                       7-10 PM – Six Toed Joe\n                       Location:  The Grove\nHost: Civic Assn @ Lake Wynonah\n 
URL:https://lakewynonahliving.com/event/fall-fest/
ATTACH;FMTTYPE=image/jpeg:https://lakewynonahliving.com/wp-content/uploads/2023/05/Fall-Fest.jpg
END:VEVENT
END:VCALENDAR