BEGIN:VCALENDAR
VERSION:2.0
PRODID:-//Lake Wynonah Living - ECPv6.15.20//NONSGML v1.0//EN
CALSCALE:GREGORIAN
METHOD:PUBLISH
X-WR-CALNAME:Lake Wynonah Living
X-ORIGINAL-URL:https://lakewynonahliving.com
X-WR-CALDESC:Events for Lake Wynonah Living
REFRESH-INTERVAL;VALUE=DURATION:PT1H
X-Robots-Tag:noindex
X-PUBLISHED-TTL:PT1H
BEGIN:VTIMEZONE
TZID:UTC
BEGIN:STANDARD
TZOFFSETFROM:+0000
TZOFFSETTO:+0000
TZNAME:UTC
DTSTART:20220101T000000
END:STANDARD
END:VTIMEZONE
BEGIN:VEVENT
DTSTART;VALUE=DATE:20230701
DTEND;VALUE=DATE:20230702
DTSTAMP:20260425T185003
CREATED:20230523T152258Z
LAST-MODIFIED:20230523T152258Z
UID:271-1688169600-1688255999@lakewynonahliving.com
SUMMARY:Lake Concert (on the water) – DJ
DESCRIPTION:Milowicki Residence (Private Home) –  On Lake Wynonah –  Drive by or anchor your boat/kayak near the music. \nLocated about half way between “G” Dock and “F” Dock
URL:https://lakewynonahliving.com/event/lake-concert-on-the-water-dj/
ATTACH;FMTTYPE=image/jpeg:https://lakewynonahliving.com/wp-content/uploads/2023/05/2023-Lake-Life-Concert-Series-P1.jpg
END:VEVENT
BEGIN:VEVENT
DTSTART;TZID=UTC:20230704T130000
DTEND;TZID=UTC:20230704T140000
DTSTAMP:20260425T185003
CREATED:20230523T153127Z
LAST-MODIFIED:20230523T153127Z
UID:275-1688475600-1688479200@lakewynonahliving.com
SUMMARY:Boat Parade
DESCRIPTION:Join the boat parade or come watch!
URL:https://lakewynonahliving.com/event/boat-parade/
ATTACH;FMTTYPE=image/jpeg:https://lakewynonahliving.com/wp-content/uploads/2023/05/Boat-Parade.jpg
END:VEVENT
BEGIN:VEVENT
DTSTART;TZID=UTC:20230707T173000
DTEND;TZID=UTC:20230707T200000
DTSTAMP:20260425T185003
CREATED:20230523T152529Z
LAST-MODIFIED:20230523T152529Z
UID:273-1688751000-1688760000@lakewynonahliving.com
SUMMARY:Lake Concert - Band/Music:  5:30pm Jim Munster— Acoustic
DESCRIPTION:Nelson Residence (Private Home) –  On Lake Wynonah –  Drive by or anchor your boat/kayak near the music. \nLocated about half way between “G” Dock and “F” Dock
URL:https://lakewynonahliving.com/event/lake-concert-band-music-530pm-jim-munster-acoustic/
ATTACH;FMTTYPE=image/jpeg:https://lakewynonahliving.com/wp-content/uploads/2023/05/2023-Lake-Life-Concert-Series-P1.jpg
END:VEVENT
BEGIN:VEVENT
DTSTART;VALUE=DATE:20230708
DTEND;VALUE=DATE:20230709
DTSTAMP:20260425T185003
CREATED:20230523T153419Z
LAST-MODIFIED:20230523T153419Z
UID:279-1688774400-1688860799@lakewynonahliving.com
SUMMARY:Lake Concert - Band/Music:  DJ
DESCRIPTION:Ritter Residence (Private Home) –  On Lake Wynonah –  Drive by or anchor your boat/kayak near the music. \nLocated about half way between “B” Dock and “G” Dock
URL:https://lakewynonahliving.com/event/lake-concert-band-music-dj/
ATTACH;FMTTYPE=image/jpeg:https://lakewynonahliving.com/wp-content/uploads/2023/05/2023-Lake-Life-Concert-Series-P1.jpg
END:VEVENT
BEGIN:VEVENT
DTSTART;VALUE=DATE:20230715
DTEND;VALUE=DATE:20230716
DTSTAMP:20260425T185003
CREATED:20230523T153620Z
LAST-MODIFIED:20230523T153620Z
UID:281-1689379200-1689465599@lakewynonahliving.com
SUMMARY:Lake Concert (on the water) – DJ
DESCRIPTION:Abromaitis Residence (Private Home) –  On Lake Wynonah –  Drive by or anchor your boat/kayak near the music. \nLocated about half way between “B” Dock and “G” Dock
URL:https://lakewynonahliving.com/event/lake-concert-on-the-water-dj-2/
ATTACH;FMTTYPE=image/jpeg:https://lakewynonahliving.com/wp-content/uploads/2023/05/2023-Lake-Life-Concert-Series-P1.jpg
END:VEVENT
BEGIN:VEVENT
DTSTART;VALUE=DATE:20230722
DTEND;VALUE=DATE:20230723
DTSTAMP:20260425T185003
CREATED:20230523T153848Z
LAST-MODIFIED:20230523T153848Z
UID:283-1689984000-1690070399@lakewynonahliving.com
SUMMARY:Lake Concert (on the water) - Band/Music:   Dead Jimmy
DESCRIPTION:Kesselmeyer Residence (Private Home) –  On Lake Wynonah –  Drive by or anchor your boat/kayak near the music. \nLocated next to the Lake Wynonah Marina
URL:https://lakewynonahliving.com/event/lake-concert-on-the-water-band-music-dead-jimmy/
ATTACH;FMTTYPE=image/jpeg:https://lakewynonahliving.com/wp-content/uploads/2023/05/2023-Lake-Life-Concert-Series-P1.jpg
END:VEVENT
BEGIN:VEVENT
DTSTART;VALUE=DATE:20230728
DTEND;VALUE=DATE:20230729
DTSTAMP:20260425T185003
CREATED:20230523T154528Z
LAST-MODIFIED:20230523T154528Z
UID:285-1690502400-1690588799@lakewynonahliving.com
SUMMARY:Lake Concert - Band/Music:  DJ
DESCRIPTION:Roman Residence (Private Home) –  On Lake Wynonah –  Drive by or anchor your boat/kayak near the music. \nLocated between “F” Dock (“Party Cove”) and Lenape Swim Area (“C” Dock)
URL:https://lakewynonahliving.com/event/lake-concert-band-music-dj-2/
ATTACH;FMTTYPE=image/jpeg:https://lakewynonahliving.com/wp-content/uploads/2023/05/2023-Lake-Life-Concert-Series-P1.jpg
END:VEVENT
BEGIN:VEVENT
DTSTART;VALUE=DATE:20230729
DTEND;VALUE=DATE:20230730
DTSTAMP:20260425T185003
CREATED:20230523T154857Z
LAST-MODIFIED:20230523T154857Z
UID:287-1690588800-1690675199@lakewynonahliving.com
SUMMARY:Lake Concert - Band/Music:  T.B.D.
DESCRIPTION:Rowen Residence (Private Home) –  On Lake Wynonah –  Drive by or anchor your boat/kayak near the music. \nLocated in the “F” Dock Cove (“Party Cove”)
URL:https://lakewynonahliving.com/event/lake-concert-band-music-t-b-d/
ATTACH;FMTTYPE=image/jpeg:https://lakewynonahliving.com/wp-content/uploads/2023/05/2023-Lake-Life-Concert-Series-P2.jpg
END:VEVENT
END:VCALENDAR