BEGIN:VCALENDAR
VERSION:2.0
PRODID:-//Lake Wynonah Living - ECPv6.15.20//NONSGML v1.0//EN
CALSCALE:GREGORIAN
METHOD:PUBLISH
X-WR-CALNAME:Lake Wynonah Living
X-ORIGINAL-URL:https://lakewynonahliving.com
X-WR-CALDESC:Events for Lake Wynonah Living
REFRESH-INTERVAL;VALUE=DURATION:PT1H
X-Robots-Tag:noindex
X-PUBLISHED-TTL:PT1H
BEGIN:VTIMEZONE
TZID:UTC
BEGIN:STANDARD
TZOFFSETFROM:+0000
TZOFFSETTO:+0000
TZNAME:UTC
DTSTART:20220101T000000
END:STANDARD
END:VTIMEZONE
BEGIN:VEVENT
DTSTART;TZID=UTC:20230704T130000
DTEND;TZID=UTC:20230704T140000
DTSTAMP:20260423T170405
CREATED:20230523T153127Z
LAST-MODIFIED:20230523T153127Z
UID:275-1688475600-1688479200@lakewynonahliving.com
SUMMARY:Boat Parade
DESCRIPTION:Join the boat parade or come watch!
URL:https://lakewynonahliving.com/event/boat-parade/
ATTACH;FMTTYPE=image/jpeg:https://lakewynonahliving.com/wp-content/uploads/2023/05/Boat-Parade.jpg
END:VEVENT
BEGIN:VEVENT
DTSTART;VALUE=DATE:20230701
DTEND;VALUE=DATE:20230702
DTSTAMP:20260423T170405
CREATED:20230523T152258Z
LAST-MODIFIED:20230523T152258Z
UID:271-1688169600-1688255999@lakewynonahliving.com
SUMMARY:Lake Concert (on the water) – DJ
DESCRIPTION:Milowicki Residence (Private Home) –  On Lake Wynonah –  Drive by or anchor your boat/kayak near the music. \nLocated about half way between “G” Dock and “F” Dock
URL:https://lakewynonahliving.com/event/lake-concert-on-the-water-dj/
ATTACH;FMTTYPE=image/jpeg:https://lakewynonahliving.com/wp-content/uploads/2023/05/2023-Lake-Life-Concert-Series-P1.jpg
END:VEVENT
BEGIN:VEVENT
DTSTART;TZID=UTC:20230624T070000
DTEND;TZID=UTC:20230624T130000
DTSTAMP:20260423T170405
CREATED:20230523T150432Z
LAST-MODIFIED:20230523T150432Z
UID:266-1687590000-1687611600@lakewynonahliving.com
SUMMARY:Community Yard Sale
DESCRIPTION:Lake Wynonah Lodge & Private Homes\, Lake Wynonah\, PA\, USA
URL:https://lakewynonahliving.com/event/community-yard-sale/
ATTACH;FMTTYPE=image/jpeg:https://lakewynonahliving.com/wp-content/uploads/2023/05/Yard-Sale.jpg
END:VEVENT
BEGIN:VEVENT
DTSTART;VALUE=DATE:20230624
DTEND;VALUE=DATE:20230625
DTSTAMP:20260423T170405
CREATED:20230523T151746Z
LAST-MODIFIED:20230523T151746Z
UID:269-1687564800-1687651199@lakewynonahliving.com
SUMMARY:Lake Concert (on the water) - Band/Music:   Northkill Creek Band
DESCRIPTION:Wehr Residence (Private Home) –  On Lake Wynonah –  Drive by or anchor your boat/kayak near the music. \nLocated about half way between “G” Dock and “F” Dock
URL:https://lakewynonahliving.com/event/lake-concert-on-the-water-band-music-northkill-creek-band/
ATTACH;FMTTYPE=image/jpeg:https://lakewynonahliving.com/wp-content/uploads/2023/05/2023-Lake-Life-Concert-Series-P1.jpg
END:VEVENT
BEGIN:VEVENT
DTSTART;TZID=UTC:20230617T180000
DTEND;TZID=UTC:20230617T220000
DTSTAMP:20260423T170405
CREATED:20230523T143824Z
LAST-MODIFIED:20230523T144142Z
UID:258-1687024800-1687039200@lakewynonahliving.com
SUMMARY:Car Show & Band/Music (New Individuals)
DESCRIPTION:At the Lake Wynonah Grove (next to the Lodge) \n  \nPART OF THE 2023 Lake Life Concert Series
URL:https://lakewynonahliving.com/event/lake-life-concert-series-band-music-car-show-new-individuals/
LOCATION:Lake Wynonah Lodge
ATTACH;FMTTYPE=image/jpeg:https://lakewynonahliving.com/wp-content/uploads/2023/05/2023-Lake-Life-Concert-Series-P1.jpg
END:VEVENT
BEGIN:VEVENT
DTSTART;TZID=UTC:20230529T090000
DTEND;TZID=UTC:20230529T140000
DTSTAMP:20260423T170405
CREATED:20230523T144719Z
LAST-MODIFIED:20230523T145531Z
UID:263-1685350800-1685368800@lakewynonahliving.com
SUMMARY:Children's Trout Rodeo - At "A Dock"
DESCRIPTION:SPONSORED by the Lake Wynonah Boat & Fish Club
URL:https://lakewynonahliving.com/event/childrens-trout-rodeo-at-a-dock/
ATTACH;FMTTYPE=image/jpeg:https://lakewynonahliving.com/wp-content/uploads/2023/05/Childrens-Trout-Rodeo.jpg
END:VEVENT
BEGIN:VEVENT
DTSTART;TZID=UTC:20230504T170000
DTEND;TZID=UTC:20230504T190000
DTSTAMP:20260423T170405
CREATED:20230401T143915Z
LAST-MODIFIED:20230401T144504Z
UID:249-1683219600-1683226800@lakewynonahliving.com
SUMMARY:Senior Dinner: Cinco De Mayo
DESCRIPTION:The Civic Association at Lake Wynonah presents:\nSenior Dinner: Cinco De Mayo\nMay 04\, 5:00 PM EDT – May 04\, 7:00 PM EDT \nLake Wynonah Lodge\, Lake Wynonah\, PA\, USA \nJoin us for our quarterly senior dinner! Open to everyone 55 years & above. Food\, Drink & Camaraderie \nRSVP at:  https://www.yourcivicassociation.com/event-details/senior-dinner-cinco-de-mayo-2 \n 
URL:https://lakewynonahliving.com/event/senior-dinner-cinco-de-mayo/
ATTACH;FMTTYPE=image/jpeg:https://lakewynonahliving.com/wp-content/uploads/2023/04/Senior-Dinner-Cinco-de-Mayo.jpg
END:VEVENT
BEGIN:VEVENT
DTSTART;TZID=UTC:20230408T100000
DTEND;TZID=UTC:20230408T120000
DTSTAMP:20260423T170405
CREATED:20230401T141539Z
LAST-MODIFIED:20230401T144215Z
UID:246-1680948000-1680955200@lakewynonahliving.com
SUMMARY:Easter Egg Hunt
DESCRIPTION:The Civic Association at Lake Wynonah presents:\nEaster Egg Hunt\nApr 08\, 10:00 AM\nLake Wynonah Grove\, Lake Wynonah\, PA\, USA
URL:https://lakewynonahliving.com/event/easter-egg-hunt/
ATTACH;FMTTYPE=image/jpeg:https://lakewynonahliving.com/wp-content/uploads/2023/04/Easter-Egg-Hunt.jpg
END:VEVENT
BEGIN:VEVENT
DTSTART;TZID=UTC:20230401T090000
DTEND;TZID=UTC:20230401T120000
DTSTAMP:20260423T170405
CREATED:20230327T194023Z
LAST-MODIFIED:20230330T182600Z
UID:128-1680339600-1680350400@lakewynonahliving.com
SUMMARY:Breakfast with the Easter Bunny
DESCRIPTION:  \nCome ENJOY a buffet breakfast with The Easter Bunny put on by the Civic Association at the Lake Wynonah Lodge! There will be 2 seatings available: 9AM & 11AM on Apr 1st!\nPlease secure you tickets in advance HERE.
URL:https://lakewynonahliving.com/event/breakfast/
LOCATION:Lake Wynonah Lodge
ATTACH;FMTTYPE=image/jpeg:https://lakewynonahliving.com/wp-content/uploads/2023/03/breakfast_lodge.jpg
ORGANIZER;CN="Lake Wynonah Civic Association":MAILTO:info@yourcivicassociation.com
END:VEVENT
END:VCALENDAR