BEGIN:VCALENDAR
VERSION:2.0
PRODID:-//Lake Wynonah Living - ECPv6.15.20//NONSGML v1.0//EN
CALSCALE:GREGORIAN
METHOD:PUBLISH
X-ORIGINAL-URL:https://lakewynonahliving.com
X-WR-CALDESC:Events for Lake Wynonah Living
REFRESH-INTERVAL;VALUE=DURATION:PT1H
X-Robots-Tag:noindex
X-PUBLISHED-TTL:PT1H
BEGIN:VTIMEZONE
TZID:UTC
BEGIN:STANDARD
TZOFFSETFROM:+0000
TZOFFSETTO:+0000
TZNAME:UTC
DTSTART:20220101T000000
END:STANDARD
END:VTIMEZONE
BEGIN:VEVENT
DTSTART;TZID=UTC:20230707T173000
DTEND;TZID=UTC:20230707T200000
DTSTAMP:20260425T202611
CREATED:20230523T152529Z
LAST-MODIFIED:20230523T152529Z
UID:273-1688751000-1688760000@lakewynonahliving.com
SUMMARY:Lake Concert - Band/Music:  5:30pm Jim Munster— Acoustic
DESCRIPTION:Nelson Residence (Private Home) –  On Lake Wynonah –  Drive by or anchor your boat/kayak near the music. \nLocated about half way between “G” Dock and “F” Dock
URL:https://lakewynonahliving.com/event/lake-concert-band-music-530pm-jim-munster-acoustic/
ATTACH;FMTTYPE=image/jpeg:https://lakewynonahliving.com/wp-content/uploads/2023/05/2023-Lake-Life-Concert-Series-P1.jpg
END:VEVENT
END:VCALENDAR