BEGIN:VCALENDAR
VERSION:2.0
PRODID:-//Lake Wynonah Living - ECPv6.15.20//NONSGML v1.0//EN
CALSCALE:GREGORIAN
METHOD:PUBLISH
X-WR-CALNAME:Lake Wynonah Living
X-ORIGINAL-URL:https://lakewynonahliving.com
X-WR-CALDESC:Events for Lake Wynonah Living
REFRESH-INTERVAL;VALUE=DURATION:PT1H
X-Robots-Tag:noindex
X-PUBLISHED-TTL:PT1H
BEGIN:VTIMEZONE
TZID:UTC
BEGIN:STANDARD
TZOFFSETFROM:+0000
TZOFFSETTO:+0000
TZNAME:UTC
DTSTART:20220101T000000
END:STANDARD
END:VTIMEZONE
BEGIN:VEVENT
DTSTART;VALUE=DATE:20230701
DTEND;VALUE=DATE:20230702
DTSTAMP:20260425T202429
CREATED:20230523T152258Z
LAST-MODIFIED:20230523T152258Z
UID:271-1688169600-1688255999@lakewynonahliving.com
SUMMARY:Lake Concert (on the water) – DJ
DESCRIPTION:Milowicki Residence (Private Home) –  On Lake Wynonah –  Drive by or anchor your boat/kayak near the music. \nLocated about half way between “G” Dock and “F” Dock
URL:https://lakewynonahliving.com/event/lake-concert-on-the-water-dj/
ATTACH;FMTTYPE=image/jpeg:https://lakewynonahliving.com/wp-content/uploads/2023/05/2023-Lake-Life-Concert-Series-P1.jpg
END:VEVENT
END:VCALENDAR